Workbook

Sheet Indice
A1: ANEXO CUADROS Y GRÁFICOS. MEMORIA HTN 2018
A2: ='C1'!$A$1 -> Cuadro nº 1. Recaudación tributaria líquida y Resultados de actividad control tributario
A3: ='C2'!$A$1 -> Cuadro nº 2. Sistema tributario de Navarra. Impuestos convenidos
A4: ='C3'!$A$1 -> Cuadro nº 3. Distribución del gasto por capítulos
A5: ='C4'!$A$1 -> Cuadro nº 4. Distribución del personal de HTN según género. Número y porcentaje
A6: ='G5'!$A$1 -> Gráfico nº 5. Promedio de edad del personal de HTN según género
A7: ='G6'!$A$1 -> Gráfico nº 6. Distribución del personal de HTN por servicios
A8: ='C7'!$A$1 -> Cuadro nº 7. Distribución del personal de HTN por grupos y niveles
A9: ='G8'!$A$1 -> Gráfico nº 8. Situación del personal de HTN. Temporalidad
A10: ='C9'!$A$1 -> Cuadro nº 9. Distribución del personal de HTN por oficinas
A11: ='C10'!$A$1 -> Cuadro nº 10. Recaudación tributaria. Componentes
A12: ='G11'!$A$1 -> Gráfico nº 11. Evolución temporal de la recaudación tributaria
A13: ='C12'!$A$1 -> Cuadro nº 12. Recaudación tributaria íntegra. Detalle por figuras tributarias
A14: ='C13'!$A$1 -> Cuadro nº 13. Recaudación tributaria devoluciones. Detalle por figuras tributarias
A15: ='C14'!$A$1 -> Cuadro nº 14. Recaudación tributaria líquida. Resumen por figuras tributarias
A16: ='C15'!$A$1 -> Cuadro nº 15. Recaudación tributaria líquida. Detalle por figuras tributarias
A17: ='G16'!$A$1 -> Gráfico nº 16. Recaudación tributaria líquida. Porcentaje gestión directa - ajustes fiscales
A18: ='C17'!$A$1 -> Cuadro nº 17. Recaudación tributaria. Ajustes por impactos cambios normativos
A19: ='C18'!$A$1 -> Cuadro nº 18. Evolución y situación de las deudas por tramos de deudas
A20: ='C19'!$A$1 -> Cuadro nº19. Evolución y situación de las deudas por inicial de NIF
A21: ='G20'!$A$1 -> Gráfico nº 20. Gráfico de los tipos de atención administrativa
A22: ='G21'!$A$1 -> Gráfico nº 21. Atención presencial administrativa. Evolución temporal personas atendidas
A23: ='G22'!$A$1 -> Gráfico nº 22. Atención presencial técnico tributaria. Evolución temporal personas atendidas
A24: ='C23'!$A$1 -> Cuadro nº 23. Atenciones presenciales por conceptos
A25: ='G24'!$A$1 -> Gráfico nº 24. Evolución temporal llamadas recibidas
A26: ='G25'!$A$1 -> Gráfico nº 25. Evolución temporal llamadas telefónicas atendidas diarias
A27: ='C26'!$A$1 -> Cuadro nº 26. Llamadas derivadas desde centralita por unidad
A28: ='G27'!$A$1 -> Gráfico nº 27. Gráfico de la distribución de la atención presencial y telefónica por meses
A29: ='G28'!$A$1 -> Gráfico nº 28. Gráfico evolución atención por correo electrónico
A30: ='G29'!$A$1 -> Gráfico nº 29. Gráfico evolución atención buzón colaboradores
A31: ='G30'!$A$1 -> Gráfico nº 30. Documentos registrados según unidad de destino
A32: ='G31'!$A$1 -> Gráfico nº 31. Evolución temporal documentos registrados
A33: ='C32'!$A$1 -> Cuadro nº 32. Directorios portal web más visitados. Número de accesos
A34: ='C33'!$A$1 -> Cuadro nº 33. Tipos de certificados expedidos
A35: ='G34'!$A$1 -> Gráfico nº 34. Evolución de la presentación telemática de declaraciones
A36: ='C35'!$A$1 -> Cuadro nº 35. Porcentaje de declaraciones telemáticas según modelos e incremento sobre año anterior
A37: ='G36'!$A$1 -> Gráfico nº 36. Accesos terminal autoservicio. Por conceptos
A38: ='C37'!$A$1 -> Cuadro nº 37. Resultados de la actividad de control tributario. Número de actuaciones e importe
A39: ='C38'!$A$1 -> Cuadro nº 38. Resultados de la actividad de control tributario por áreas. Número de actuaciones e importe
A40: ='C39'!$A$1 -> Cuadro nº 39. Resultado total de la actividad de control tributario área de inspección. Número de actuaciones e importe
...

Sheet C1
A1: Cuadro nº 1. Recaudación tributaria líquida y Resultados de actividad control tributario
B3: 2017 | C3: 2018 | E3: Variación 2018/2017
B4: Importe Miles de euros | C4: Importe Miles de euros | E4: Importe Miles de euros | F4: Tasa de variación
A5: Recaudación tributaria líquida | B5: 3682671.1 | C5: ='C14'!D18 -> 3482953.6 | E5: =C5-B5 -> -199717.52 | F5: =(C5-B5)/B5 -> -0.054231702
A6: Recaudación obtenida de las actuaciones de control tributario | B6: 160123.04 | C6: 178690.1 | E6: =C6-B6 -> 18567.058 | F6: =(C6-B6)/B6 -> 0.11595494

Sheet C2
A1: Cuadro nº 2. Sistema tributario de Navarra. Impuestos convenidos
A3: IMPUESTOS CONVENIDOS | B3: Gestiona y recauda | C3: Capacidad normativa Navarra propia diferente a la Estatal
A4: Impuesto sobre la Renta de las Personas Físicas | B4: Ö (1) | C4: Ö
A5: Impuesto sobre el Patrimonio | B5: Ö | C5: Ö
A6: Impuesto sobre Sociedades | B6: Ö | C6: Ö
A7: Impuesto sobre la Renta de no Residentes | B7: Ö
A8: Impuesto sobre Sucesiones y Donaciones | B8: Ö | C8: Ö
A9: Impuesto sobre el Valor de la Producción de la Energía Eléctrica | B9: Ö
A10: Impuesto sobre la producción de combustible nuclear gastado y residuos radiactivos | B10: Ö
A11: Impuesto sobre el almacenamiento de combustible nuclear gastado y residuos radiactivos | B11: Ö
A12: Impuesto sobre los depósitos en las entidades de crédito | B12: Ö
A13: Impuesto sobre el Valor Añadido | B13: Ö (2)
A14: Impuesto sobre la cerveza | B14: Ö (2)
A15: Impuesto sobre el vino y bebidas fermentadas | B15: Ö (2)
A16: Impuesto sobre productos intermedios | B16: Ö (2)
A17: Impuesto sobre el alcohol y bebidas derivadas | B17: Ö (2)
A18: Impuesto sobre hidrocarburos | B18: Ö (2)
A19: Impuesto sobre las labores del tabaco | B19: Ö
A20: Impuesto especial sobre determinados medios de transporte | B20: Ö (2)
... A24: Impuesto sobre las primas de seguros | B24: Ö
A25: Impuesto sobre transmisiones patrimoniales y actos jurídicos documentados | B25: Ö | C25: Ö
A26: Tributos sobre el juego | B26: Ö | C26: Ö
A27: Tasas | B27: Ö | C27: Ö
A29: (1) Excepto Retenciones a funcionarios y empleados del Estado en régimen de contratación laboral o administrativa, Retenciones por rendimientos de actividades empresariales y profesionales satisfechos por la Administración del Estado y Retenciones de capital mobiliario en activos emitidos por el Estado y Comunidades Autónomas de Régimen Común
A30: (2) Excepto gravámenes a la importación

Sheet C3
A1: Cuadro nº 3. Distribución del gasto por capítulos
B3: 2017 | D3: 2018 | G3: Variación 2018/2017
B4: Importe Miles de euros | C4: Porcentaje s/Total | D4: Importe Miles de euros | E4: Porcentaje s/Total | G4: Importe Miles de euros | H4: Tasa de Variación
A5: Gastos de personal | B5: 15246.703 | C5: =B5/$B$9 -> 0.57168589 | D5: 15527.24 | E5: =D5/$D$9 -> 0.61180413 | G5: =D5-B5 -> 280.53682 | H5: =D5/B5-1 -> 0.018399835
A6: Gastos corrientes en bienes y servicios | B6: 7380.3183 | C6: =B6/$B$9 -> 0.27673024 | D6: 7173.79 | E6: =D6/$D$9 -> 0.28266159 | G6: =D6-B6 -> -206.52835 | H6: =D6/B6-1 -> -0.027983664
A7: Gastos financieros | B7: 2593.4661 | C7: =B7/$B$9 -> 0.097243843 | D7: 1082.38 | E7: =D7/$D$9 -> 0.042647924 | G7: =D7-B7 -> -1511.0861 | H7: =D7/B7-1 -> -0.58265119
A8: Inversiones reales | B8: 1449.2332 | C8: =B8/$B$9 -> 0.05434002 | D8: 1596.02 | E8: =D8/$D$9 -> 0.062886361 | G8: =D8-B8 -> 146.78683 | H8: =D8/B8-1 -> 0.10128586
A9: TOTAL | B9: =SUM(B5:B8) -> 26669.721 | C9: =B9/$B$9 -> 1 | D9: =SUM(D5:D8) -> 25379.43 | E9: =D9/$D$9 -> 1 | G9: =D9-B9 -> -1290.2908 | H9: =D9/B9-1 -> -0.048380365

Sheet C4
A1: Cuadro nº 4. Distribución del personal de HTN según género. Número y porcentaje
B3: 2017 | D3: 2018 | G3: Variación 2018/2017
B4: Número | C4: Porcentaje sobre total | D4: Número | E4: Porcentaje sobre total | G4: Número | H4: Porcentaje
A5: Femenino | B5: 213 | C5: =B5/$B$7 -> 0.67405063 | D5: 214 | E5: =D5/$D$7 -> 0.66875 | G5: =D5-B5 -> 1 | H5: =D5/B5-1 -> 0.0046948357
A6: Masculino | B6: 103 | C6: =B6/$B$7 -> 0.32594937 | D6: 106 | E6: =D6/$D$7 -> 0.33125 | G6: =D6-B6 -> 3 | H6: =D6/B6-1 -> 0.029126214
A7: TOTAL PERSONAL HTN | B7: =SUM(B5:B6) -> 316 | C7: =B7/$B$7 -> 1 | D7: =SUM(D5:D6) -> 320 | E7: =D7/$D$7 -> 1 | G7: =D7-B7 -> 4 | H7: =D7/B7-1 -> 0.012658228

Sheet G5
A1: Gráfico nº 5. Promedio de edad del personal de HTN según género
E24: Variación 2018/2017
B25: 2017 | C25: 2018 | E25: Valor Absoluto | F25: Porcentaje
A26: Femenino | B26: 47.19 | C26: 47.4 | E26: =C26-B26 -> 0.21 | F26: =(C26-B26)/B26 -> 0.0044500954
A27: Masculino | B27: 48.62 | C27: 47.61 | E27: =C27-B27 -> -1.01 | F27: =(C27-B27)/B27 -> -0.020773344
A28: Total Personal | B28: 47.66 | C28: 47.61 | E28: =C28-B28 -> -0.05 | F28: =(C28-B28)/B28 -> -0.0010490978

Sheet G6
A1: Gráfico nº 6. Distribución del personal de HTN por servicios
A34: SERVICIO | B34: 2017 | C34: 2018
A35: Dirección | B35: 2 | C35: 2
A36: Administración | B36: 5 | C36: 5
A37: Asistencia e Información al Contribuyente | B37: 66 | C37: 72
A38: Convenio Económico y Planificación Financiera | B38: 8 | C38: 7
A39: Desarrollo Normativo y Asesoramiento Jurídico | B39: 8 | C39: 7
A40: Gestión del IRPF y sobre el Patrimonio | B40: 51 | C40: 51
A41: Gestión Tributaria | B41: 48 | C41: 49
A42: Inspección Tributaria | B42: 43 | C42: 44
A43: Recaudación | B43: 31 | C43: 30
A44: Riqueza Territorial y Tributos Patrimoniales | B44: 32 | C44: 28
A45: Sistemas de Información Tributaria | B45: 22 | C45: 25
A46: TOTAL PERSONAL HTN | B46: =SUM(B35:B45) -> 316 | C46: =SUM(C35:C45) -> 320

Sheet C7
A1: Cuadro nº 7. Distribución del personal de HTN por grupos y niveles
E3: Variación 2018/2017
B4: 2017 | C4: 2018 | E4: Número | F4: Porcentaje
A5: Técnico de Hacienda | B5: 60 | C5: 66 | E5: =C5-B5 -> 6 | F5: =(C5-B5)/B5 -> 0.1
A6: Otros nivel A | B6: 12 | C6: 12 | E6: =C6-B6 -> 0 | F6: =(C6-B6)/B6 -> 0
A7: Nivel A | B7: =SUM(B5:B6) -> 72 | C7: =SUM(C5:C6) -> 78 | E7: =C7-B7 -> 6 | F7: =(C7-B7)/B7 -> 0.083333333
A8: Gestor e Investigador auxiliar de Hacienda | B8: 117 | C8: 117 | E8: =C8-B8 -> 0 | F8: =(C8-B8)/B8 -> 0
A9: Otros nivel B | B9: 37 | C9: 34 | E9: =C9-B9 -> -3 | F9: =(C9-B9)/B9 -> -0.081081081
A10: Nivel B | B10: =SUM(B8:B9) -> 154 | C10: =SUM(C8:C9) -> 151 | E10: =C10-B10 -> -3 | F10: =(C10-B10)/B10 -> -0.019480519
A11: Administrativo | B11: 36 | C11: 36 | E11: =C11-B11 -> 0 | F11: =(C11-B11)/B11 -> 0
A12: Agentes tributarios y Oficiales administrativo | B12: 4 | C12: 4 | E12: =C12-B12 -> 0 | F12: =(C12-B12)/B12 -> 0
A13: Nivel C | B13: =SUM(B11:B12) -> 40 | C13: =SUM(C11:C12) -> 40 | E13: =C13-B13 -> 0 | F13: =(C13-B13)/B13 -> 0
A14: Auxiliar administrativo | B14: 49 | C14: 50 | E14: =C14-B14 -> 1 | F14: =(C14-B14)/B14 -> 0.020408163
A15: Subalterno | B15: 1 | C15: 1 | E15: =C15-B15 -> 0 | F15: =(C15-B15)/B15 -> 0
A16: Nivel D (*) | B16: =SUM(B14:B15) -> 50 | C16: 51 | E16: =C16-B16 -> 1 | F16: =(C16-B16)/B16 -> 0.02
A17: Total personal HTN | B17: =B7+B10+B13+B16 -> 316 | C17: =C7+C10+C13+C16 -> 320 | E17: =C17-B17 -> 4 | F17: =(C17-B17)/B17 -> 0.012658228
A19: (*) En el año 2018 el personal de nivel E se engloba en el nivel D
A20: Otros nivel A: Analista de Aplicaciones; Ingeniero Agronómo; TAP Economíca; TAP Jurídica; Titulado Superior (FD); Titulado Superior
A21: Otros nivel B: Arquitecto Técnico; Diplomado CCEE; Ingeniero Técnico Agrícola; TGM Derecho; TGM (IRPF); TGM (IVA); TGM

Sheet G8
A1: Gráfico nº 8. Situación del personal de HTN. Temporalidad
B25: 2017 | D25: 2018
A26: Ocupando plaza como titular | B26: 171 | C26: =B26/$B$31 -> 0.54113924 | D26: 184 | E26: =D26/$D$31 -> 0.575
A27: Jefaturas | B27: 64 | C27: =B27/$B$31 -> 0.20253165 | D27: 63 | E27: =D27/$D$31 -> 0.196875
A28: Contratados | B28: 52 | C28: =B28/$B$31 -> 0.16455696 | D28: 52 | E28: =D28/$D$31 -> 0.1625
A29: Formación | B29: 24 | C29: =B29/$B$31 -> 0.075949367 | D29: 16 | E29: =D29/$D$31 -> 0.05
A30: Otros | B30: 5 | C30: =B30/$B$31 -> 0.015822785 | D30: 5 | E30: =D30/$D$31 -> 0.015625
A31: Total personal HTN | B31: =SUM(B26:B30) -> 316 | C31: =B31/$B$31 -> 1 | D31: =SUM(D26:D30) -> 320 | E31: =D31/$D$31 -> 1

Sheet C9
A1: Cuadro nº 9. Distribución del personal de HTN por oficinas
E3: Variación 2018/2017
B4: 2017 | C4: 2018 | E4: Número | F4: Porcentaje
A5: Sede Central | B5: 217 | C5: 216 | E5: =C5-B5 -> -1 | F5: =(C5-B5)/B5 -> -0.0046082949
A6: Oficinas territoriales de Pamplona | B6: 83 | C6: 86 | E6: =C6-B6 -> 3 | F6: =(C6-B6)/B6 -> 0.036144578
A7: Oficina territorial de Estella | B7: 6 | C7: 6 | E7: =C7-B7 -> 0 | F7: =(C7-B7)/B7 -> 0
A8: Oficina territorial de Tafalla | B8: 3 | C8: 3 | E8: =C8-B8 -> 0 | F8: =(C8-B8)/B8 -> 0
A9: Oficina territorial de Tudela | B9: 7 | C9: 7 | E9: =C9-B9 -> 0 | F9: =(C9-B9)/B9 -> 0
A10: Oficina territorial de Doneztebe/Santesteban | C10: 2 | E10: =C10-B10 -> 2 | F10: -
A11: Total personal HTN | B11: =SUM(B5:B10) -> 316 | C11: =SUM(C5:C10) -> 320 | E11: =C11-B11 -> 4 | F11: =(C11-B11)/B11 -> 0.012658228

Sheet C10
A1: Cuadro nº 10. Recaudación tributaria. Componentes
B3: 2017 | C3: 2018 | E3: Variación 2018/2017
B4: Importe Miles de euros | C4: Importe Miles de euros | E4: Importe Miles de euros | F4: Tasa de Variación
A5: Recaudación íntegra | B5: 4959181.3 | C5: 5107259.1 | E5: =C5-B5 -> 148077.78 | F5: =(C5-B5)/B5 -> 0.029859319
A6: Devoluciones | B6: 1276510.2 | C6: 1624305.5 | E6: =C6-B6 -> 347795.3 | F6: =(C6-B6)/B6 -> 0.27245791
A7: Recaudación líquida | B7: 3682671.1 | C7: 3482953.6 | E7: =C7-B7 -> -199717.52 | F7: =(C7-B7)/B7 -> -0.054231702

Sheet G11
A1: Gráfico nº 11. Evolución temporal de la recaudación tributaria
B36: 2007 | C36: 2008 | D36: 2009 | E36: 2010 | F36: 2011 | G36: 2012 | H36: 2013 | I36: 2014 | J36: 2015 | K36: 2016 | L36: 2017 | M36: 2018
A37: Recaudación íntegra | B37: 4569564.7 | C37: 4310607.8 | D37: 4068712.9 | E37: 3954897.6 | F37: 4034191 | G37: 4070844.4 | H37: 4368385.5 | I37: 4255033.7 | J37: 4398741.8 | K37: 4563540.8 | L37: 4959181.3 | M37: ='C10'!C5 -> 5107259.1
A38: Devoluciones | B38: 975947.18 | C38: 1131418.4 | D38: 1032557 | E38: 1085991.9 | F38: 891687.29 | G38: 1092254.6 | H38: 1461255.5 | I38: 1247468 | J38: 1200312 | K38: 1313809 | L38: 1276510.2 | M38: ='C10'!C6 -> 1624305.5
A39: Recaudación líquida | B39: =B37-B38 -> 3593617.5 | C39: =C37-C38 -> 3179189.4 | D39: =D37-D38 -> 3036155.8 | E39: =E37-E38 -> 2868905.7 | F39: =F37-F38 -> 3142503.7 | G39: =G37-G38 -> 2978589.8 | H39: =H37-H38 -> 2907130 | I39: =I37-I38 -> 3007565.7 | ... K39: =K37-K38 -> 3249731.9 | L39: 3682671.1 | M39: ='C10'!C7 -> 3482953.6
A40: Tasa Variación Anual | B40: 0.076891524 | C40: =C39/B39-1 -> -0.11532338 | D40: =D39/C39-1 -> -0.044990575 | E40: =E39/D39-1 -> -0.05508616 | F40: =F39/E39-1 -> 0.095366694 | G40: =G39/F39-1 -> -0.052160288 | H40: =H39/G39-1 -> -0.023991161 | I40: =I39/H39-1 -> 0.034548058 | J40: =J39/I39-1 -> 0.063461323 | ... M40: =M39/L39-1 -> -0.054231702

Sheet C12
A1: Cuadro nº 12. Recaudación tributaria íntegra. Detalle por figuras tributarias
B3: 2017 | D3: 2018 | G3: Variación 2018/2017
B4: Importe Miles de euros | C4: % sobre Total | D4: Importe Miles de euros | E4: % sobre Total | G4: Importe Miles de euros | H4: Tasa de Variación
A5: Retenciones trabajo | B5: 1181439.4 | C5: =B5/$B$57 -> 0.23823275 | D5: 1222100.6 | E5: =D5/$D$57 -> 0.23928698 | G5: =(D5-B5) -> 40661.198 | H5: =(D5-B5)/B5 -> 0.034416661
A6: Retenciones capital | B6: 87409.019 | C6: =B6/$B$57 -> 0.017625695 | D6: 87611.357 | E6: =D6/$D$57 -> 0.017154281 | G6: =(D6-B6) -> 202.33842 | H6: =(D6-B6)/B6 -> 0.002314846
A7: Fraccionamientos | B7: 44066.073 | C7: =B7/$B$57 -> 0.0088857557 | D7: 47902.355 | E7: =D7/$D$57 -> 0.0093792688 | G7: =(D7-B7) -> 3836.2819 | H7: =(D7-B7)/B7 -> 0.087057494
A8: Cuota diferencial | B8: 169477.74 | C8: =B8/$B$57 -> 0.03417454 | D8: 190261.77 | E8: =D8/$D$57 -> 0.037253206 | G8: =(D8-B8) -> 20784.034 | H8: =(D8-B8)/B8 -> 0.12263577
A9: Total IRPF | B9: 1482392.2 | C9: =B9/$B$57 -> 0.29891874 | D9: 1547876.1 | E9: =D9/$D$57 -> 0.30307373 | G9: =(D9-B9) -> 65483.852 | H9: =(D9-B9)/B9 -> 0.044174445
A10: Retenciones capital | B10: 37403.721 | C10: =B10/$B$57 -> 0.0075423178 | D10: 37535.761 | E10: =D10/$D$57 -> 0.0073494924 | G10: =(D10-B10) -> 132.04028 | H10: =(D10-B10)/B10 -> 0.0035301375
A11: Pago a cuenta | B11: 134033.26 | C11: =B11/$B$57 -> 0.027027295 | D11: 155120.26 | E11: =D11/$D$57 -> 0.030372506 | G11: =(D11-B11) -> 21087.002 | H11: =(D11-B11)/B11 -> 0.15732664
A12: Cuota diferencial | B12: 177555.44 | C12: =B12/$B$57 -> 0.035803378 | D12: 166857.8 | E12: =D12/$D$57 -> 0.032670715 | G12: =(D12-B12) -> -10697.638 | H12: =(D12-B12)/B12 -> -0.060249562
A13: Total Impuesto sociedades | B13: 348992.42 | C13: =B13/$B$57 -> 0.070372991 | D13: 359513.82 | E13: =D13/$D$57 -> 0.070392713 | G13: =(D13-B13) -> 10521.405 | H13: =(D13-B13)/B13 -> 0.030147947
A14: Impto. s/ renta no residentes | B14: 6446.1618 | C14: =B14/$B$57 -> 0.0012998439 | D14: 6842.709 | E14: =D14/$D$57 -> 0.0013398007 | G14: =(D14-B14) -> 396.54723 | H14: =(D14-B14)/B14 -> 0.061516797
A15: Impto. sucesiones y donaciones | B15: 46672.899 | C15: =B15/$B$57 -> 0.0094114122 | D15: 59434.864 | E15: =D15/$D$57 -> 0.011637331 | G15: =(D15-B15) -> 12761.965 | H15: =(D15-B15)/B15 -> 0.27343415
A16: Impuesto sobre el patrimonio | B16: 43155.65 | C16: =B16/$B$57 -> 0.0087021723 | D16: 44797.95 | E16: =D16/$D$57 -> 0.008771427 | G16: =(D16-B16) -> 1642.3004 | H16: =(D16-B16)/B16 -> 0.03805528
... A18: Gravamen sobre premios y loterías | B18: 13316.479 | C18: =B18/$B$57 -> 0.0026852172 | D18: 1632.9627 | E18: =D18/$D$57 -> 0.00031973367 | G18: =(D18-B18) -> -11683.516 | H18: =(D18-B18)/B18 -> -0.87737278
A19: Gravamen revalorización. Activos Sociedades
A20: Impto. grandes superficies | B20: 825.13245 | C20: =B20/$B$57 -> 0.00016638481 | D20: 13.775548 | E20: =D20/$D$57 -> 2.6972487e-06 | G20: =(D20-B20) -> -811.3569 | H20: =(D20-B20)/B20 -> -0.98330505
A21: Impuesto sobre valor producción energía eléctrica | B21: 28555.256 | C21: =B21/$B$57 -> 0.0057580584 | D21: 37790.974 | E21: =D21/$D$57 -> 0.007399463 | G21: =(D21-B21) -> 9235.7187 | H21: =(D21-B21)/B21 -> 0.32343324
A22: TOTAL IMPUESTOS DIRECTOS | B22: 1975581.1 | C22: =B22/$B$57 -> 0.39836841 | D22: 2062892.5 | E22: =D22/$D$57 -> 0.40391383 | G22: =(D22-B22) -> 87311.401 | H22: =(D22-B22)/B22 -> 0.0441953
A23: IVA Recaudación directa | B23: 1339007.6 | C23: =B23/$B$57 -> 0.27000577 | D23: 1402291.7 | E23: =D23/$D$57 -> 0.27456835 | G23: =(D23-B23) -> 63284.138 | H23: =(D23-B23)/B23 -> 0.047261972
A24: Impto. Esp. s/ alcoholes | B24: 51809.57 | C24: =B24/$B$57 -> 0.010447202 | D24: 48556.326 | E24: =D24/$D$57 -> 0.0095073161 | G24: =(D24-B24) -> -3253.2441 | H24: =(D24-B24)/B24 -> -0.062792338
A25: Impto. Esp. s/ cerveza | B25: 172.07867 | C25: =B25/$B$57 -> 3.4699008e-05 | D25: 198.00416 | E25: =D25/$D$57 -> 3.8769164e-05 | G25: =(D25-B25) -> 25.925495 | H25: =(D25-B25)/B25 -> 0.15066071
A26: Impto. Esp. productos intermedios | B26: 113.52014 | C26: =B26/$B$57 -> 2.2890904e-05 | D26: 124.17467 | E26: =D26/$D$57 -> 2.4313368e-05 | G26: =(D26-B26) -> 10.654528 | H26: =(D26-B26)/B26 -> 0.093855834
A27: Impto. Esp. s/ medios de transporte | B27: 7531.6102 | C27: =B27/$B$57 -> 0.0015187205 | D27: 8513.44 | E27: =D27/$D$57 -> 0.0016669293 | G27: =(D27-B27) -> 981.82972 | H27: =(D27-B27)/B27 -> 0.1303612
A28: Impto. Esp. s/ hidrocarburos | B28: 227063.78 | C28: =B28/$B$57 -> 0.045786546 | D28: 227002.99 | E28: =D28/$D$57 -> 0.044447127 | G28: =(D28-B28) -> -60.787235 | H28: =(D28-B28)/B28 -> -0.00026770996
A29: Impto. Esp. s/ electricidad | B29: 21576.658 | C29: =B29/$B$57 -> 0.0043508508 | D29: 21963.123 | E29: =D29/$D$57 -> 0.0043003738 | G29: =(D29-B29) -> 386.46501 | H29: =(D29-B29)/B29 -> 0.017911255
A30: Impto. Esp. s/ labores de tabaco | B30: 135552.69 | C30: =B30/$B$57 -> 0.027333684 | D30: 138368.36 | E30: =D30/$D$57 -> 0.027092488 | G30: =(D30-B30) -> 2815.6639 | H30: =(D30-B30)/B30 -> 0.02077173
A31: Total IIEE Recaudación directa | B31: 443819.91 | C31: =B31/$B$57 -> 0.089494593 | D31: 444726.42 | E31: =D31/$D$57 -> 0.087077317 | G31: =(D31-B31) -> 906.50735 | H31: =(D31-B31)/B31 -> 0.0020425117
A32: Ajuste fiscal IVA | B32: 889110.09 | C32: =B32/$B$57 -> 0.17928566 | D32: 969917.6 | E32: =D32/$D$57 -> 0.18990961 | G32: =(D32-B32) -> 80807.512 | H32: =(D32-B32)/B32 -> 0.090885834
A33: Ajuste fiscal Alcoholes y productos intermedios
A34: Ajuste fiscal Cerveza | B34: 6436.1937 | C34: =B34/$B$57 -> 0.0012978339 | D34: 5840.2315 | E34: =D34/$D$57 -> 0.0011435158 | G34: =(D34-B34) -> -595.96223 | H34: =(D34-B34)/B34 -> -0.092595446
A35: Ajuste fiscal Hidrocarburos | B35: 174472.07 | C35: =B35/$B$57 -> 0.035181629 | D35: 69378.696 | E35: =D35/$D$57 -> 0.013584331 | G35: =(D35-B35) -> -105093.38 | H35: =(D35-B35)/B35 -> -0.60235071
A36: Ajuste fiscal labores Tabaco | B36: 12235.117 | C36: =B36/$B$57 -> 0.0024671648 | D36: 24595.716 | E36: =D36/$D$57 -> 0.0048158348 | G36: =(D36-B36) -> 12360.599 | H36: =(D36-B36)/B36 -> 1.0102558
A37: Total Ajustes fiscales | B37: 1082253.5 | C37: =B37/$B$57 -> 0.21823229 | D37: 1069732.2 | E37: =D37/$D$57 -> 0.2094533 | G37: =(D37-B37) -> -12521.23 | H37: =(D37-B37)/B37 -> -0.011569591
A38: Impto. transmisiones patrimoniales | B38: 47584.975 | C38: =B38/$B$57 -> 0.0095953288 | D38: 56070.549 | E38: =D38/$D$57 -> 0.010978599 | G38: =(D38-B38) -> 8485.5738 | H38: =(D38-B38)/B38 -> 0.17832465
A39: Impto. actos jurídicos documentados | B39: 12385.637 | C39: =B39/$B$57 -> 0.0024975165 | D39: 14071.048 | E39: =D39/$D$57 -> 0.0027551076 | G39: =(D39-B39) -> 1685.4114 | H39: =(D39-B39)/B39 -> 0.13607789
A40: Impto. s/ prima de seguros | B40: 20591.041 | C40: =B40/$B$57 -> 0.0041521049 | D40: 21562.891 | E40: =D40/$D$57 -> 0.0042220085 | G40: =(D40-B40) -> 971.8502 | H40: =(D40-B40)/B40 -> 0.047197721
A41: Impto. s/ ventas minoristas hidrocarburos | B41: 226.25582 | C41: =B41/$B$57 -> 4.5623624e-05 | D41: 24.038996 | E41: =D41/$D$57 -> 4.7068293e-06 | G41: =(D41-B41) -> -202.21683 | H41: =(D41-B41)/B41 -> -0.89375303
A42: Impto. s/ actividades del juego | B42: 1925.0317 | C42: =B42/$B$57 -> 0.00038817531 | D42: 2249.5932 | E42: =D42/$D$57 -> 0.00044046977 | G42: =(D42-B42) -> 324.56151 | H42: =(D42-B42)/B42 -> 0.1686006
...

Sheet C13
A1: Cuadro nº 13. Recaudación tributaria devoluciones. Detalle por figuras tributarias
B3: 2017 | D3: 2018 | G3: Variación 2018/2017
B4: Importe Miles de euros | C4: % sobre Total | D4: Importe Miles de euros | E4: % sobre Total | G4: Importe Miles de euros | H4: Tasa de Variación
A5: Retenciones trabajo | B5: 3823.3819 | C5: =B5/$B$57 -> 0.0029951833 | D5: 4243.9412 | E5: =D5/$D$57 -> 0.0026127728 | G5: =(D5-B5) -> 420.55926 | H5: =(D5-B5)/B5 -> 0.10999667
A6: Retenciones capital | B6: 666.43747 | C6: =B6/$B$57 -> 0.00052207768 | D6: 1331.7033 | E6: =D6/$D$57 -> 0.00081986012 | G6: =(D6-B6) -> 665.2658 | H6: =(D6-B6)/B6 -> 0.99824189
A7: Fraccionamientos | B7: 433.43504 | C7: =B7/$B$57 -> 0.00033954688 | D7: 823.87164 | E7: =D7/$D$57 -> 0.00050721472 | G7: =(D7-B7) -> 390.4366 | H7: =(D7-B7)/B7 -> 0.90079611
A8: Cuota diferencial | B8: 194643.62 | C8: =B8/$B$57 -> 0.15248106 | D8: 195661.1 | E8: =D8/$D$57 -> 0.12045831 | G8: =(D8-B8) -> 1017.4731 | H8: =(D8-B8)/B8 -> 0.0052273644
A9: Total IRPF | B9: 199566.88 | C9: =B9/$B$57 -> 0.15633787 | D9: 202060.61 | E9: =D9/$D$57 -> 0.12439816 | G9: =(D9-B9) -> 2493.7348 | H9: =(D9-B9)/B9 -> 0.012495735
A10: Retenciones capital | B10: 277.48059 | C10: =B10/$B$57 -> 0.00021737437 | D10: 570.72997 | E10: =D10/$D$57 -> 0.00035136862 | G10: =(D10-B10) -> 293.24938 | H10: =(D10-B10)/B10 -> 1.0568284
A11: Pago a cuenta | B11: 241.80614 | C11: =B11/$B$57 -> 0.00018942751 | D11: 159.53213 | E11: =D11/$D$57 -> 9.8215596e-05 | G11: =(D11-B11) -> -82.27401 | H11: =(D11-B11)/B11 -> -0.34024781
A12: Cuota diferencial | B12: 92455.662 | C12: =B12/$B$57 -> 0.072428457 | D12: 166196.86 | E12: =D12/$D$57 -> 0.10231872 | G12: =(D12-B12) -> 73741.199 | H12: =(D12-B12)/B12 -> 0.79758445
A13: Total Impuesto sociedades | B13: 92974.949 | C13: =B13/$B$57 -> 0.072835259 | D13: 166927.12 | E13: =D13/$D$57 -> 0.10276831 | G13: =(D13-B13) -> 73952.174 | H13: =(D13-B13)/B13 -> 0.79539892
A14: Impto. s/ renta no residentes | B14: 683.7624 | C14: =B14/$B$57 -> 0.00053564979 | D14: 5990.4638 | E14: =D14/$D$57 -> 0.0036880155 | G14: =(D14-B14) -> 5306.7014 | H14: =(D14-B14)/B14 -> 7.7610313
A15: Impto. sucesiones y donaciones | B15: 3290.0474 | C15: =B15/$B$57 -> 0.0025773765 | D15: 831.89343 | E15: =D15/$D$57 -> 0.00051215332 | G15: =(D15-B15) -> -2458.1539 | H15: =(D15-B15)/B15 -> -0.74714849
A16: Impuesto sobre el patrimonio | B16: 2341.4703 | C16: =B16/$B$57 -> 0.0018342747 | D16: 2503.8906 | E16: =D16/$D$57 -> 0.0015415146 | G16: =(D16-B16) -> 162.42025 | H16: =(D16-B16)/B16 -> 0.069366777
A17: Impto s/ depósitos en Entidades Crédito | B17: 310.04909 | C17: =B17/$B$57 -> 0.00024288807 | D17: 8.02721 | E17: =D17/$D$57 -> 4.9419337e-06 | G17: =(D17-B17) -> -302.02188 | H17: =(D17-B17)/B17 -> -0.97410987
A18: Gravamen sobre premios y loterías
A19: Gravamen revalorización. Activos Sociedades | B19: 5.01867 | C19: =B19/$B$57 -> 3.931555e-06 | G19: =(D19-B19) -> -5.01867 | H19: =(D19-B19)/B19 -> -1
A20: Impto. grandes superficies | B20: 24.26578 | C20: =B20/$B$57 -> 1.9009469e-05 | D20: 21.64432 | E20: =D20/$D$57 -> 1.3325277e-05 | G20: =(D20-B20) -> -2.62146 | H20: =(D20-B20)/B20 -> -0.10803115
A21: Impuesto sobre valor producción energía eléctrica | B21: 389.92838 | C21: =B21/$B$57 -> 0.00030546437 | D21: 186.46424 | E21: =D21/$D$57 -> 0.00011479629 | G21: =(D21-B21) -> -203.46414 | H21: =(D21-B21)/B21 -> -0.52179875
A22: TOTAL IMPUESTOS DIRECTOS | B22: 299586.37 | C22: =B22/$B$57 -> 0.23469172 | D22: 378530.12 | E22: =D22/$D$57 -> 0.23304121 | G22: =(D22-B22) -> 78943.75 | H22: =(D22-B22)/B22 -> 0.26350915
A23: IVA Recaudación directa | B23: 874897.15 | C23: =B23/$B$57 -> 0.68538204 | D23: 1190529.3 | E23: =D23/$D$57 -> 0.73294666 | G23: =(D23-B23) -> 315632.12 | H23: =(D23-B23)/B23 -> 0.36076483
A24: Impto. Esp. s/ alcoholes | B24: 106.35088 | C24: =B24/$B$57 -> 8.3313774e-05 | D24: 197.3039 | E24: =D24/$D$57 -> 0.0001214697 | G24: =(D24-B24) -> 90.95302 | H24: =(D24-B24)/B24 -> 0.85521643
A25: Impto. Esp. s/ cerveza | B25: 0.09196 | C25: =B25/$B$57 -> 7.2040162e-08 | D25: 14.29314 | E25: =D25/$D$57 -> 8.7995394e-06 | G25: =(D25-B25) -> 14.20118 | H25: =(D25-B25)/B25 -> 154.42779
A26: Impto. Esp. productos intermedios | B26: 0.21776 | C26: =B26/$B$57 -> 1.705901e-07 | D26: 0.08943 | E26: =D26/$D$57 -> 5.5057378e-08 | G26: =(D26-B26) -> -0.12833 | H26: =(D26-B26)/B26 -> -0.58931852
A27: Impto. Esp. s/ medios de transporte | B27: 89.21293 | C27: =B27/$B$57 -> 6.9888147e-05 | D27: 256.55647 | E27: =D27/$D$57 -> 0.00015794841 | G27: =(D27-B27) -> 167.34354 | H27: =(D27-B27)/B27 -> 1.8757768
A28: Impto. Esp. s/ hidrocarburos | B28: 4519.8745 | C28: =B28/$B$57 -> 0.0035408057 | D28: 3093.1941 | E28: =D28/$D$57 -> 0.001904318 | G28: =(D28-B28) -> -1426.6804 | H28: =(D28-B28)/B28 -> -0.31564602
A29: Impto. Esp. s/ electricidad | B29: 34.65453 | C29: =B29/$B$57 -> 2.7147868e-05 | D29: 328.54552 | E29: =D29/$D$57 -> 0.00020226831 | G29: =(D29-B29) -> 293.89099 | H29: =(D29-B29)/B29 -> 8.4805937
A30: Impto. Esp. s/ labores de tabaco
A31: Total IIEE Recaudación directa | B31: 4750.4026 | C31: =B31/$B$57 -> 0.0037213981 | D31: 3889.9826 | E31: =D31/$D$57 -> 0.002394859 | G31: =(D31-B31) -> -860.42 | H31: =(D31-B31)/B31 -> -0.1811257
A32: Ajuste fiscal IVA
A33: Ajuste fiscal Alcoholes y productos intermedios | B33: 37957.881 | C33: =B33/$B$57 -> 0.029735667 | D33: 35373.247 | E33: =D33/$D$57 -> 0.02177746 | G33: =(D33-B33) -> -2584.6339 | H33: =(D33-B33)/B33 -> -0.068092154
A34: Ajuste fiscal Cerveza | B34: 5.48555 | C34: =B34/$B$57 -> 4.2973022e-06 | G34: =(D34-B34) -> -5.48555 | H34: =(D34-B34)/B34 -> -1
A35: Ajuste fiscal Hidrocarburos | B35: 41320.302 | C35: =B35/$B$57 -> 0.032369739 | G35: =(D35-B35) -> -41320.302 | H35: =(D35-B35)/B35 -> -1
A36: Ajuste fiscal labores Tabaco | D36: 12063.448 | E36: =D36/$D$57 -> 0.0074268348 | G36: =(D36-B36) -> 12063.448
A37: Total Ajustes fiscales | B37: 79283.668 | C37: =B37/$B$57 -> 0.062109704 | D37: 47436.696 | E37: =D37/$D$57 -> 0.029204295 | G37: =(D37-B37) -> -31846.973 | H37: =(D37-B37)/B37 -> -0.40168389
A38: Impto. transmisiones patrimoniales | B38: 325.05136 | C38: =B38/$B$57 -> 0.00025464063 | D38: 223.73186 | E38: =D38/$D$57 -> 0.00013774002 | G38: =(D38-B38) -> -101.3195 | H38: =(D38-B38)/B38 -> -0.31170305
A39: Impto. actos jurídicos documentados | B39: 5762.7606 | C39: =B39/$B$57 -> 0.0045144651 | D39: 87.67806 | E39: =D39/$D$57 -> 5.39788e-05 | G39: =(D39-B39) -> -5675.0825 | H39: =(D39-B39)/B39 -> -0.98478541
A40: Impto. s/ prima de seguros | B40: 21.01994 | C40: =B40/$B$57 -> 1.6466723e-05 | D40: 226.20133 | E40: =D40/$D$57 -> 0.00013926034 | G40: =(D40-B40) -> 205.18139 | H40: =(D40-B40)/B40 -> 9.7612738
A41: Impto. s/ ventas minoristas hidrocarburos | B41: 9514.936 | C41: =B41/$B$57 -> 0.0074538662 | D41: 1074.7888 | E41: =D41/$D$57 -> 0.0006616913 | G41: =(D41-B41) -> -8440.1472 | H41: =(D41-B41)/B41 -> -0.88704193
...

Sheet C14
A1: Cuadro nº 14. Recaudación tributaria líquida. Resumen por figuras tributarias
B3: 2017 | D3: 2018 | G3: Variación 2018/2017
B4: Importe Miles de euros | C4: % sobre Total | D4: Importe Miles de euros | E4: % sobre Total | G4: Importe Miles de euros | H4: Tasa de Variación
A5: IRPF | B5: 1282825.3 | C5: =B5/$B$18 -> 0.348341 | D5: 1345815.4 | E5: =D5/$D$18 -> 0.38640063 | G5: =D5-B5 -> 62990.118 | H5: =(D5-B5)/B5 -> 0.049102646
A6: Impuesto sociedades | B6: 256017.47 | C6: =B6/$B$18 -> 0.069519504 | D6: 192586.7 | E6: =D6/$D$18 -> 0.055294076 | G6: =D6-B6 -> -63430.769 | H6: =(D6-B6)/B6 -> -0.24775953
A7: Impto. s/ renta no residentes | B7: 5762.3994 | C7: =B7/$B$18 -> 0.0015647336 | D7: 852.24522 | E7: =D7/$D$18 -> 0.00024469037 | G7: =D7-B7 -> -4910.1542 | H7: =(D7-B7)/B7 -> -0.85210237
A8: Impuesto sobre el patrimonio | B8: 40814.18 | C8: =B8/$B$18 -> 0.011082765 | D8: 42294.06 | E8: =D8/$D$18 -> 0.012143159 | G8: =D8-B8 -> 1479.8801 | H8: =(D8-B8)/B8 -> 0.03625897
A9: Resto impuestos directos | B9: 90575.401 | C9: =B9/$B$18 -> 0.024595029 | D9: 102813.98 | E9: =D9/$D$18 -> 0.029519192 | G9: =D9-B9 -> 12238.576 | H9: =(D9-B9)/B9 -> 0.1351203
A10: TOTAL IMPUETOS DIRECTOS | B10: 1675994.8 | C10: =B10/$B$18 -> 0.45510303 | D10: 1684362.4 | E10: =D10/$D$18 -> 0.48360174 | G10: =D10-B10 -> 8367.6502 | H10: =(D10-B10)/B10 -> 0.0049926469
A11: IVA | B11: 1353220.5 | C11: =B11/$B$18 -> 0.36745625 | D11: 1181680 | E11: =D11/$D$18 -> 0.33927528 | G11: =D11-B11 -> -171540.47 | H11: =(D11-B11)/B11 -> -0.12676461
A12: Impuestos Especiales | B12: 552929.22 | C12: =B12/$B$18 -> 0.15014353 | D12: 493214.38 | E12: =D12/$D$18 -> 0.14160808 | G12: =D12-B12 -> -59714.842 | H12: =(D12-B12)/B12 -> -0.10799726
A13: TP y AJD | B13: 53882.8 | C13: =B13/$B$18 -> 0.014631445 | D13: 69830.187 | E13: =D13/$D$18 -> 0.020049129 | G13: =D13-B13 -> 15947.387 | H13: =(D13-B13)/B13 -> 0.29596434
A14: Resto impuestos indirectos | B14: 14613.724 | C14: =B14/$B$18 -> 0.0039682403 | D14: 24373.913 | E14: =D14/$D$18 -> 0.0069980586 | G14: =D14-B14 -> 9760.1897 | H14: =(D14-B14)/B14 -> 0.66787835
A15: TOTAL IMPUESTOS INDIRECTOS | B15: 1974646.3 | C15: =B15/$B$18 -> 0.53619946 | D15: 1769098.5 | E15: =D15/$D$18 -> 0.50793055 | G15: =D15-B15 -> -205547.73 | H15: =(D15-B15)/B15 -> -0.10409345
A16: TOTAL IMPUESTOS | B16: 3650641 | C16: =B16/$B$18 -> 0.99130249 | D16: 3453461 | E16: =D16/$D$18 -> 0.99153229 | G16: =D16-B16 -> -197180.08 | H16: =(D16-B16)/B16 -> -0.054012454
... A18: TOTAL TRIBUTOS Y OTROS | B18: 3682671.1 | C18: =B18/$B$18 -> 1 | D18: 3482953.6 | E18: =D18/$D$18 -> 1 | G18: =D18-B18 -> -199717.52 | H18: =(D18-B18)/B18 -> -0.054231702

Sheet C15
A1: Cuadro nº 15. Recaudación tributaria líquida. Detalle por figuras tributarias
B3: 2017 | D3: 2018 | G3: Variación 2018/2017
B4: Importe Miles de euros | C4: % sobre Total | D4: Importe Miles de euros | E4: % sobre Total | G4: Importe Miles de euros | H4: Tasa de Variación
A5: Retenciones trabajo | B5: 1177616 | C5: =B5/$B$57 -> 0.31977224 | D5: 1217856.6 | E5: =D5/$D$57 -> 0.34966203 | G5: =(D5-B5) -> 40240.639 | H5: =(D5-B5)/B5 -> 0.034171274
A6: Retenciones capital | B6: 86742.581 | C6: =B6/$B$57 -> 0.023554257 | D6: 86279.654 | E6: =D6/$D$57 -> 0.024771979 | G6: =(D6-B6) -> -462.92738 | H6: =(D6-B6)/B6 -> -0.005336795
A7: Fraccionamientos | B7: 43632.638 | C7: =B7/$B$57 -> 0.011848095 | D7: 47078.484 | E7: =D7/$D$57 -> 0.013516828 | G7: =(D7-B7) -> 3445.8453 | H7: =(D7-B7)/B7 -> 0.078974031
A8: Cuota diferencial | B8: -25165.885 | C8: =B8/$B$57 -> -0.0068335955 | D8: -5399.3244 | E8: =D8/$D$57 -> -0.0015502143 | G8: =(D8-B8) -> 19766.56 | H8: =-(D8-B8)/B8 -> 0.78545064
A9: Total IRPF | B9: 1282825.3 | C9: =B9/$B$57 -> 0.348341 | D9: 1345815.4 | E9: =D9/$D$57 -> 0.38640063 | G9: =(D9-B9) -> 62990.118 | H9: =(D9-B9)/B9 -> 0.049102646
A10: Retenciones capital | B10: 37126.241 | C10: =B10/$B$57 -> 0.010081335 | D10: 36965.031 | E10: =D10/$D$57 -> 0.010613128 | G10: =(D10-B10) -> -161.2091 | H10: =(D10-B10)/B10 -> -0.0043421876
A11: Pago a cuenta | B11: 133791.45 | C11: =B11/$B$57 -> 0.036330002 | D11: 154960.73 | E11: =D11/$D$57 -> 0.044491183 | G11: =(D11-B11) -> 21169.276 | H11: =(D11-B11)/B11 -> 0.15822593
A12: Cuota diferencial | B12: 85099.779 | C12: =B12/$B$57 -> 0.023108167 | D12: 660.94264 | E12: =D12/$D$57 -> 0.00018976499 | G12: =(D12-B12) -> -84438.836 | H12: =(D12-B12)/B12 -> -0.99223332
A13: Total Impuesto Sociedades | B13: 256017.47 | C13: =B13/$B$57 -> 0.069519504 | D13: 192586.7 | E13: =D13/$D$57 -> 0.055294076 | G13: =(D13-B13) -> -63430.769 | H13: =(D13-B13)/B13 -> -0.24775953
A14: Impto. s/ renta no residentes | B14: 5762.3994 | C14: =B14/$B$57 -> 0.0015647336 | D14: 852.24522 | E14: =D14/$D$57 -> 0.00024469037 | G14: =(D14-B14) -> -4910.1542 | H14: =(D14-B14)/B14 -> -0.85210237
A15: Impto. sucesiones y donaciones | B15: 43382.852 | C15: =B15/$B$57 -> 0.011780268 | D15: 58602.97 | E15: =D15/$D$57 -> 0.016825653 | G15: =(D15-B15) -> 15220.119 | H15: =(D15-B15)/B15 -> 0.3508326
A16: Impuesto sobre el patrimonio | B16: 40814.18 | C16: =B16/$B$57 -> 0.011082765 | D16: 42294.06 | E16: =D16/$D$57 -> 0.012143159 | G16: =(D16-B16) -> 1479.8801 | H16: =(D16-B16)/B16 -> 0.03625897
A17: Impto s/ depósitos en Entidades Crédito | B17: 4914.8955 | C17: =B17/$B$57 -> 0.0013346007 | D17: 4981.4025 | E17: =D17/$D$57 -> 0.0014302236 | G17: =(D17-B17) -> 66.506927 | H17: =(D17-B17)/B17 -> 0.013531707
A18: Gravamen sobre premios y loterías | B18: 13316.479 | C18: =B18/$B$57 -> 0.0036159837 | D18: 1632.9627 | E18: =D18/$D$57 -> 0.00046884423 | G18: =(D18-B18) -> -11683.516 | H18: =(D18-B18)/B18 -> -0.87737278
A19: Gravamen revalorización. Activos Sociedades | B19: -5.01867 | C19: =B19/$B$57 -> -1.3627799e-06 | D19: 0 | E19: =D19/$D$57 -> 0 | G19: =(D19-B19) -> 5.01867 | H19: =(D19-B19)/B19 -> -1
A20: Impto. grandes superficies | B20: 800.86667 | C20: =B20/$B$57 -> 0.00021746896 | D20: -7.8687721 | E20: =D20/$D$57 -> -2.2592239e-06 | G20: =(D20-B20) -> -808.73544 | H20: =(D20-B20)/B20 -> -1.0098253
... A40: Impto. s/ prima de seguros | B40: 20570.021 | C40: =B40/$B$57 -> 0.0055856253 | D40: 21336.69 | E40: =D40/$D$57 -> 0.0061260333 | G40: =(D40-B40) -> 766.66881 | H40: =(D40-B40)/B40 -> 0.037271173
A41: Impto. s/ ventas minoristas hidrocarburos | B41: -9288.6802 | C41: =B41/$B$57 -> -0.0025222671 | D41: -1050.7498 | E41: =D41/$D$57 -> -0.00030168355 | G41: =(D41-B41) -> 8237.9304 | H41: =-(D41-B41)/B41 -> 0.88687846
A42: Impto. s/ actividades del juego | B42: 1919.1877 | C42: =B42/$B$57 -> 0.00052114013 | D42: 2246.2724 | E42: =D42/$D$57 -> 0.0006449332 | G42: =(D42-B42) -> 327.08469 | H42: =(D42-B42)/B42 -> 0.17042871
A43: Impto. s/ gases fluorados | B43: 1413.1953 | C43: =B43/$B$57 -> 0.00038374193 | D43: 1217.4319 | E43: =D43/$D$57 -> 0.00034954008 | G43: =(D43-B43) -> -195.76344 | H43: =(D43-B43)/B43 -> -0.13852539
A44: Impto. s/ residuos | C44: =B44/$B$57 -> 0 | D44: 624.26925 | E44: =D44/$D$57 -> 0.00017923559 | G44: =(D44-B44) -> 624.26925
A45: Imptos. extinguidos | D45: 0 | G45: =(D45-B45) -> 0 | H45: =(D45-B45)/B45 -> #DIV/0!
A46: TOTAL IMPUESTOS INDIRECTOS | B46: 1974646.3 | C46: =B46/$B$57 -> 0.53619946 | D46: 1769098.5 | E46: =D46/$D$57 -> 0.50793055 | G46: =(D46-B46) -> -205547.73 | H46: =(D46-B46)/B46 -> -0.10409345
A47: TOTAL IMPUESTOS | B47: 3650641 | C47: =B47/$B$57 -> 0.99130249 | D47: 3453461 | E47: =D47/$D$57 -> 0.99153229 | G47: =(D47-B47) -> -197180.08 | H47: =(D47-B47)/B47 -> -0.054012454
A48: Tasas sobre juego | B48: 8566.7979 | C48: =B48/$B$57 -> 0.0023262457 | D48: 8968.9534 | E48: =D48/$D$57 -> 0.0025750999 | G48: =(D48-B48) -> 402.15549 | H48: =(D48-B48)/B48 -> 0.046943501
A49: Canon superficie minas | B49: 11.18655 | C49: =B49/$B$57 -> 3.0376185e-06 | D49: 41.451012 | E49: =D49/$D$57 -> 1.1901109e-05 | G49: =(D49-B49) -> 30.264462 | H49: =(D49-B49)/B49 -> 2.705433
A50: Canon Telefónica | B50: 130.97859 | C50: =B50/$B$57 -> 3.5566193e-05 | D50: 731.73934 | E50: =D50/$D$57 -> 0.00021009161 | G50: =(D50-B50) -> 600.76075 | H50: =(D50-B50)/B50 -> 4.5867096
A51: Venta Cartones de Juego | B51: 54.74491 | C51: =B51/$B$57 -> 1.4865544e-05 | D51: 51.86824 | E51: =D51/$D$57 -> 1.4892027e-05 | G51: =(D51-B51) -> -2.87667 | H51: =(D51-B51)/B51 -> -0.052546803
A52: Sanciones Fiscales | B52: 10887.992 | C52: =B52/$B$57 -> 0.0029565474 | D52: 10920.711 | E52: =D52/$D$57 -> 0.0031354742 | G52: =(D52-B52) -> 32.719249 | H52: =(D52-B52)/B52 -> 0.0030050766
A53: Intereses de demora | B53: 4116.237 | C53: =B53/$B$57 -> 0.0011177314 | D53: 2362.5089 | E53: =D53/$D$57 -> 0.00067830616 | G53: =(D53-B53) -> -1753.7281 | H53: =(D53-B53)/B53 -> -0.4260513
A54: Recargo de apremio | B54: 7028.9424 | C54: =B54/$B$57 -> 0.0019086533 | D54: 6219.2244 | E54: =D54/$D$57 -> 0.0017856179 | G54: =(D54-B54) -> -809.71798 | H54: =(D54-B54)/B54 -> -0.1151977
A55: Otros ingresos | B55: 1233.198 | C55: =B55/$B$57 -> 0.00033486509 | D55: 196.18101 | E55: =D55/$D$57 -> 5.6326048e-05 | G55: =(D55-B55) -> -1037.017 | H55: =(D55-B55)/B55 -> -0.84091686
A56: TOTAL TASAS Y OTROS | B56: 32030.077 | C56: =B56/$B$57 -> 0.0086975122 | D56: 29492.637 | E56: =D56/$D$57 -> 0.008467709 | G56: =(D56-B56) -> -2537.4398 | H56: =(D56-B56)/B56 -> -0.079220533
A57: TOTAL TRIBUTOS Y OTROS | B57: 3682671.1 | C57: =B57/$B$57 -> 1 | D57: 3482953.6 | E57: =D57/$D$57 -> 1 | G57: =(D57-B57) -> -199717.52 | H57: =(D57-B57)/B57 -> -0.054231702

Sheet G16
A1: Gráfico nº 16. Recaudación tributaria líquida. Porcentaje gestión directa - ajustes fiscales
B25: 2017 | C25: 2018
B26: Importe Miles de euros | C26: Importe Miles de euros
A27: Recaudación gestión directa | B27: =B29-B28 -> 2679701.3 | C27: =C29-C28 -> 2460658
A28: Ajustes fiscales | B28: ='C15'!B37 -> 1002969.8 | C28: ='C15'!D37 -> 1022295.5
A29: Recaudación total | B29: ='C15'!B57 -> 3682671.1 | C29: ='C15'!D57 -> 3482953.6

Sheet C17
A1: Cuadro nº 17. Recaudación tributaria. Ajustes por impactos cambios normativos
B3: Impacto negativo | C3: Impacto positivo | D3: Saldo total
A4: Modificaciones Cuota diferencial IRPF 2017 | C4: 3920000
A5: Incremento anticipos y deducción pensiones viudedad y otras | B5: 4711000
A6: Modificaciones Cuota diferencial IS 2017 | C6: 12065000
A7: Modifcaciones IS 2018 pago a cuenta | C7: 1854000
A8: Otras medidas fiscales (sanciones) | C8: 800000
A9: Nuevo Impuesto Residuos | C9: 624000
A10: TOTAL | B10: =SUM(B4:B9) -> 4711000 | C10: =SUM(C4:C9) -> 19263000 | D10: =C10-B10 -> 14552000

Sheet C18
A1: Cuadro nº 18. Evolución y situación de las deudas por tramos de deudas
B3: 43100 | E3: 43465 | I3: Variación entre fechas
A4: TRAMOS DE DEUDA | B4: Deudores Número | C4: Importe Miles de euros | D4: % Deuda s/total | E4: Deudores Número | F4: Importe Miles de euros | G4: % Deuda s/total | I4: Deudores Número | J4: Importe Miles de euros | K4: Tasa de variación
A5: Más de 600.000 euros | B5: 127 | C5: 189369 | D5: =C5/$C$19 -> 0.3688937 | E5: 124 | F5: 197452 | G5: =F5/$F$19 -> 0.3835494 | I5: =E5-B5 -> -3 | J5: =F5-C5 -> 8083 | K5: =J5/C5 -> 0.042683861
A6: de 300.000 a 600.000 euros | B6: 183 | C6: 76213 | D6: =C6/$C$19 -> 0.14846409 | E6: 176 | F6: 73891 | G6: =F6/$F$19 -> 0.14353285 | I6: =E6-B6 -> -7 | J6: =F6-C6 -> -2322 | K6: =J6/C6 -> -0.030467243
A7: de 150.000 a 300.000 euros | B7: 325 | C7: 67114 | D7: =C7/$C$19 -> 0.1307391 | E7: 325 | F7: 67044 | G7: =F7/$F$19 -> 0.13023259 | I7: =E7-B7 -> 0 | J7: =F7-C7 -> -70 | K7: =J7/C7 -> -0.0010430015
A8: de 90.000 a 150.000 euros | B8: 391 | C8: 45103 | D8: =C8/$C$19 -> 0.087861332 | E8: 387 | F8: 44676 | G8: =F8/$F$19 -> 0.08678288 | I8: =E8-B8 -> -4 | J8: =F8-C8 -> -427 | K8: =J8/C8 -> -0.0094672195
A9: de 60.000 a 90.000 euros | B9: 390 | C9: 28448 | D9: =C9/$C$19 -> 0.055417138 | E9: 389 | F9: 28343 | G9: =F9/$F$19 -> 0.055056119 | I9: =E9-B9 -> -1 | J9: =F9-C9 -> -105 | K9: =J9/C9 -> -0.0036909449
A10: de 30.000 a 60.000 euros | B10: 850 | C10: 36511 | D10: =C10/$C$19 -> 0.071123985 | E10: 796 | F10: 33980 | G10: =F10/$F$19 -> 0.06600596 | I10: =E10-B10 -> -54 | J10: =F10-C10 -> -2531 | K10: =J10/C10 -> -0.069321574
A11: de 6.000 a 30.000 euros | B11: 3325 | C11: 44290 | D11: =C11/$C$19 -> 0.086277596 | E11: 3275 | F11: 43360 | G11: =F11/$F$19 -> 0.084226557 | I11: =E11-B11 -> -50 | J11: =F11-C11 -> -930 | K11: =J11/C11 -> -0.020997968
A12: de 1.200 a 6.000 euros | B12: 2982 | C12: 12801 | D12: =C12/$C$19 -> 0.024936543 | E12: 2956 | F12: 12874 | G12: =F12/$F$19 -> 0.025007673 | I12: =E12-B12 -> -26 | J12: =F12-C12 -> 73 | K12: =J12/C12 -> 0.0057026795
A13: de 600 a 1.200 euros | B13: 8051 | C13: 11625 | D13: =C13/$C$19 -> 0.022645677 | E13: 8075 | F13: 11395 | G13: =F13/$F$19 -> 0.022134724 | I13: =E13-B13 -> 24 | J13: =F13-C13 -> -230 | K13: =J13/C13 -> -0.019784946
A14: de 300 a 600 euros | B14: 3149 | C14: 1330 | D14: =C14/$C$19 -> 0.0025908603 | E14: 3010 | F14: 1276 | G14: =F14/$F$19 -> 0.0024786228 | I14: =E14-B14 -> -139 | J14: =F14-C14 -> -54 | K14: =J14/C14 -> -0.040601504
A15: de 120 a 300 euros | B15: 2016 | C15: 411 | D15: =C15/$C$19 -> 0.00080063427 | E15: 1900 | F15: 386 | G15: =F15/$F$19 -> 0.00074980284 | I15: =E15-B15 -> -116 | J15: =F15-C15 -> -25 | K15: =J15/C15 -> -0.060827251
A16: de 60 a 120 euros | B16: 915 | C16: 81 | D16: =C16/$C$19 -> 0.00015778924 | E16: 916 | F16: 80 | G16: =F16/$F$19 -> 0.00015539955 | I16: =E16-B16 -> 1 | J16: =F16-C16 -> -1 | K16: =J16/C16 -> -0.012345679
... A18: menos de 30 euros | B18: 1298 | C18: 14 | D18: =C18/$C$19 -> 2.7272214e-05 | E18: 944 | F18: 11 | G18: =F18/$F$19 -> 2.1367438e-05 | I18: =E18-B18 -> -354 | J18: =F18-C18 -> -3 | K18: =J18/C18 -> -0.21428571
A19: TOTALES | B19: =SUM(B5:B18) -> 24742 | C19: =SUM(C5:C18) -> 513343 | D19: =C19/$C$19 -> 1 | E19: =SUM(E5:E18) -> 24035 | F19: =SUM(F5:F18) -> 514802 | G19: =F19/$F$19 -> 1 | I19: =E19-B19 -> -707 | J19: =F19-C19 -> 1459 | K19: =J19/C19 -> 0.0028421543

Sheet C19
A1: Cuadro nº19. Evolución y situación de las deudas por inicial de NIF
B3: 43100 | E3: 43465 | I3: Variación entre fechas
B4: Deudores Número | C4: Importe Miles de euros | D4: % Deuda s/total | E4: Deudores Número | F4: Importe Miles de euros | G4: % Deuda s/total | I4: Deudores Número | J4: Importe Miles de euros | K4: Tasa de variación
A5: A-SOCIEDADES ANONIMAS | B5: 500 | C5: 74757 | D5: =C5/$C$27 -> 0.14562778 | E5: 454 | F5: 76189 | G5: =F5/$F$27 -> 0.14799671 | I5: =E5-B5 -> -46 | J5: =F5-C5 -> 1432 | K5: =J5/C5 -> 0.019155397
A6: B-SOCIEDADES LIMITADAS | B6: 6135 | C6: 305833 | D6: =C6/$C$27 -> 0.59576735 | E6: 5816 | F6: 303712 | G6: =F6/$F$27 -> 0.58995886 | I6: =E6-B6 -> -319 | J6: =F6-C6 -> -2121 | K6: =J6/C6 -> -0.0069351574
A7: C-SOCIEDADES COLECTIVAS | B7: 2 | C7: 1 | D7: =C7/$C$27 -> 1.9480153e-06 | G7: =F7/$F$27 -> 0 | I7: =E7-B7 -> -2 | J7: =F7-C7 -> -1 | K7: =J7/C7 -> -1
A8: E-COMUNIDADES DE BIENES | B8: 1652 | C8: 46023 | D8: =C8/$C$27 -> 0.089653507 | E8: 1545 | F8: 45139 | G8: =F8/$F$27 -> 0.087682255 | I8: =E8-B8 -> -107 | J8: =F8-C8 -> -884 | K8: =J8/C8 -> -0.019207787
A9: F-SOCIEDADES COOPERATIVAS | B9: 161 | C9: 2507 | D9: =C9/$C$27 -> 0.0048836743 | E9: 168 | F9: 2873 | G9: =F9/$F$27 -> 0.0055807864 | I9: =E9-B9 -> 7 | J9: =F9-C9 -> 366 | K9: =J9/C9 -> 0.14599122
A10: G-ASOCIACIONES Y OTROS | B10: 134 | C10: 1575 | D10: =C10/$C$27 -> 0.003068124 | E10: 112 | F10: 1338 | G10: =F10/$F$27 -> 0.0025990575 | I10: =E10-B10 -> -22 | J10: =F10-C10 -> -237 | K10: =J10/C10 -> -0.15047619
A11: H-COPROPIETARIOS | B11: 28 | C11: 11 | D11: =C11/$C$27 -> 2.1428168e-05 | E11: 20 | F11: 6 | G11: =F11/$F$27 -> 1.1654966e-05 | I11: =E11-B11 -> -8 | J11: =F11-C11 -> -5 | K11: =J11/C11 -> -0.45454545
A12: J-DESCONOCIDO | B12: 140 | C12: 1694 | D12: =C12/$C$27 -> 0.0032999379 | E12: 102 | F12: 1069 | G12: =F12/$F$27 -> 0.0020765265 | I12: =E12-B12 -> -38 | J12: =F12-C12 -> -625 | K12: =J12/C12 -> -0.36894923
A13: K-MENORES | B13: 6 | C13: 2 | D13: =C13/$C$27 -> 3.8960305e-06 | E13: 5 | F13: 4 | G13: =F13/$F$27 -> 7.7699776e-06 | I13: =E13-B13 -> -1 | J13: =F13-C13 -> 2 | K13: =J13/C13 -> 1
A14: L-DESCONOCIDO | B14: 9 | C14: 2 | D14: =C14/$C$27 -> 3.8960305e-06 | G14: =F14/$F$27 -> 0 | I14: =E14-B14 -> -9 | J14: =F14-C14 -> -2 | K14: =J14/C14 -> -1
A15: M-DESCONOCIDO | B15: 231 | C15: 154 | D15: =C15/$C$27 -> 0.00029999435 | E15: 322 | F15: 209 | G15: =F15/$F$27 -> 0.00040598133 | I15: =E15-B15 -> 91 | J15: =F15-C15 -> 55 | K15: =J15/C15 -> 0.35714286
A16: N-DESCONOCIDO | B16: 29 | C16: 55 | D16: =C16/$C$27 -> 0.00010714084 | E16: 29 | F16: 168 | G16: =F16/$F$27 -> 0.00032633906 | I16: =E16-B16 -> 0 | J16: =F16-C16 -> 113 | K16: =J16/C16 -> 2.0545455
A17: P-CORPORACIONES LOCALES | B17: 4 | C17: 27 | D17: =C17/$C$27 -> 5.2596412e-05 | E17: 3 | F17: 5 | G17: =F17/$F$27 -> 9.712472e-06 | I17: =E17-B17 -> -1 | J17: =F17-C17 -> -22 | K17: =J17/C17 -> -0.81481481
A18: Q. ORG. AUT. CONG. RELIGIOSAS | B18: 3 | C18: 4 | D18: =C18/$C$27 -> 7.7920611e-06 | E18: 7 | F18: 31 | G18: =F18/$F$27 -> 6.0217326e-05 | I18: =E18-B18 -> 4 | J18: =F18-C18 -> 27 | K18: =J18/C18 -> 6.75
A19: R-DESCONOCIDO | B19: 2 | C19: 1 | D19: =C19/$C$27 -> 1.9480153e-06 | E19: 2 | F19: 3 | G19: =F19/$F$27 -> 5.8274832e-06 | I19: =E19-B19 -> 0 | J19: =F19-C19 -> 2 | K19: =J19/C19 -> 2
A20: S-ORG.ADMON.GOB.NAVA | B20: 1 | C20: 1 | D20: =C20/$C$27 -> 1.9480153e-06 | E20: 2 | F20: 1 | G20: =F20/$F$27 -> 1.9424944e-06 | I20: =E20-B20 -> 1 | J20: =F20-C20 -> 0 | K20: =J20/C20 -> 0
A21: U-DESCONOCIDO | B21: 32 | C21: 9104 | D21: =C21/$C$27 -> 0.017734731 | E21: 31 | F21: 8705 | G21: =F21/$F$27 -> 0.016909414 | I21: =E21-B21 -> -1 | J21: =F21-C21 -> -399 | K21: =J21/C21 -> -0.043826889
A22: V-DESCONOCIDO | B22: 87 | C22: 272 | D22: =C22/$C$27 -> 0.00052986015 | E22: 49 | F22: 187 | G22: =F22/$F$27 -> 0.00036324645 | I22: =E22-B22 -> -38 | J22: =F22-C22 -> -85 | K22: =J22/C22 -> -0.3125
A23: W-DESCONOCIDO | B23: 12 | C23: 56 | D23: =C23/$C$27 -> 0.00010908885 | E23: 8 | F23: 14 | G23: =F23/$F$27 -> 2.7194922e-05 | I23: =E23-B23 -> -4 | J23: =F23-C23 -> -42 | K23: =J23/C23 -> -0.75
A24: X-DESCONOCIDO | B24: 3354 | C24: 9080 | D24: =C24/$C$27 -> 0.017687979 | E24: 2850 | F24: 8401 | G24: =F24/$F$27 -> 0.016318895 | I24: =E24-B24 -> -504 | J24: =F24-C24 -> -679 | K24: =J24/C24 -> -0.074779736
A25: Y-DESCONOCIDO | B25: 561 | C25: 1285 | D25: =C25/$C$27 -> 0.0025031996 | E25: 684 | F25: 1641 | G25: =F25/$F$27 -> 0.0031876333 | I25: =E25-B25 -> 123 | J25: =F25-C25 -> 356 | K25: =J25/C25 -> 0.2770428
A26: RESTO | B26: 11659 | C26: 60899 | D26: =C26/$C$27 -> 0.11863218 | E26: 11826 | F26: 65110 | G26: =F26/$F$27 -> 0.12647581 | I26: =E26-B26 -> 167 | J26: =F26-C26 -> 4211 | K26: =J26/C26 -> 0.069147277
A27: TOTALES | B27: =SUM(B5:B26) -> 24742 | C27: =SUM(C5:C26) -> 513343 | D27: =C27/$C$27 -> 1 | E27: 24035 | F27: 514802 | G27: =F27/$F$27 -> 1 | I27: =E27-B27 -> -707 | J27: =F27-C27 -> 1459 | K27: =J27/C27 -> 0.0028421543

Sheet G20
A1: Gráfico nº 20. Gráfico de los tipos de atención administrativa
B31: Tipo atención (en porcentaje)
A32: Emisión de certificaciones/ incumplimientos / Requerimientos | B32: 0.3668
A33: Información y recepción de autoliquidaciones de Sucesiones, ITP y AJD | B33: 0.2463
A34: Gestiones sobre recaudación (aplazamientos, providencias de apremio, etc) | B34: 0.1036
A35: Consultas generales sobre IRPF (propuestas, PINs, devoluciones,liquidaciones) | B35: 0.0434
A36: Bases de datos (NIFs, altas, bajas, modificaciones) | B36: 0.0503
A37: Otros conceptos | B37: 0.1896

Sheet G21
A1: Gráfico nº 21. Atención presencial administrativa. Evolución temporal personas atendidas
A26: Año | B26: Personas atendidas
A27: 2009 | B27: 86679
A28: 2010 | B28: 76275
A29: 2011 | B29: 75838
A30: 2012 | B30: 70229
A31: 2013 | B31: 76655
A32: 2014 | B32: 75449
A33: 2015 | B33: 71759
A34: 2016 | B34: 70153
A35: 2017 | B35: 67654
A36: 2018 | B36: 64880

Sheet G22
A1: Gráfico nº 22. Atención presencial técnico tributaria. Evolución temporal personas atendidas
A25: Año | B25: Personas atendidas
A26: 2009 | B26: 14908
A27: 2010 | B27: 15668
A28: 2011 | B28: 13556
A29: 2012 | B29: 14643
A30: 2013 | B30: 15229
A31: 2014 | B31: 16659
A32: 2015 | B32: 16114
A33: 2016 | B33: 15926
A34: 2017 | B34: 17460
A35: 2018 | B35: 16732

Sheet C23
A1: Cuadro nº 23. Atenciones presenciales por conceptos
A3: Impuesto/Concepto | B3: Nº atenciones presenciales ventanilla | C3: % s/ total atenciones ventanilla | E3: Nº citas previas Unidad entidades colaboradoras | F3: % s/ total citas | H3: Nº total atenciones | I3: % s/ total citas
A4: IRPF y Patrimonio | B4: 7147 | C4: =B4/$B$16 -> 0.36401141 | E4: 166 | F4: =E4/$E$16 -> 0.28327645 | H4: =B4+E4 -> 7313 | I4: =H4/$H$16 -> 0.36167161
A5: IVA | B5: 4514 | C5: =B5/$B$16 -> 0.2299073 | E5: 147 | F5: =E5/$E$16 -> 0.25085324 | H5: =B5+E5 -> 4661 | I5: =H5/$H$16 -> 0.23051434
A6: Sociedades | B6: 285 | C6: =B6/$B$16 -> 0.014515636 | E6: 112 | F6: =E6/$E$16 -> 0.19112628 | H6: =B6+E6 -> 397 | I6: =H6/$H$16 -> 0.019634026
A7: Renta No Residentes | B7: 322 | C7: =B7/$B$16 -> 0.016400122 | E7: 14 | F7: =E7/$E$16 -> 0.023890785 | H7: =B7+E7 -> 336 | I7: =H7/$H$16 -> 0.016617211
A8: TP y AJD | B8: 1416 | C8: =B8/$B$16 -> 0.072119792 | E8: 48 | F8: =E8/$E$16 -> 0.081911263 | H8: =B8+E8 -> 1464 | I8: =H8/$H$16 -> 0.072403561
A9: Sucesiones y Donaciones | B9: 1543 | C9: =B9/$B$16 -> 0.078588163 | E9: 29 | F9: =E9/$E$16 -> 0.049488055 | H9: =B9+E9 -> 1572 | I9: =H9/$H$16 -> 0.077744807
A10: Especiales | B10: 72 | C10: =B10/$B$16 -> 0.0036671081 | E10: 5 | F10: =E10/$E$16 -> 0.0085324232 | H10: =B10+E10 -> 77 | I10: =H10/$H$16 -> 0.0038081108
A11: Recaudación | B11: 554 | C11: =B11/$B$16 -> 0.028216359 | E11: 34 | F11: =E11/$E$16 -> 0.058020478 | H11: =B11+E11 -> 588 | I11: =H11/$H$16 -> 0.029080119
A12: Incump./Requerim./Certific. | B12: 282 | C12: =B12/$B$16 -> 0.01436284 | F12: =E12/$E$16 -> 0 | H12: =B12+E12 -> 282 | I12: =H12/$H$16 -> 0.013946588
A13: Censos/Censo Entidades/NIF | B13: 358 | C13: =B13/$B$16 -> 0.018233676 | F13: =E13/$E$16 -> 0 | H13: =B13+E13 -> 358 | I13: =H13/$H$16 -> 0.017705242
A14: Modelos informativos | B14: 175 | C14: =B14/$B$16 -> 0.0089131099 | F14: =E14/$E$16 -> 0 | H14: =B14+E14 -> 175 | I14: =H14/$H$16 -> 0.0086547972
A15: Otros | B15: 2966 | C15: =B15/$B$16 -> 0.15106448 | E15: 31 | F15: =E15/$E$16 -> 0.052901024 | H15: =B15+E15 -> 2997 | I15: =H15/$H$16 -> 0.14821958
A16: Total | B16: =SUM(B4:B15) -> 19634 | C16: =B16/$B$16 -> 1 | E16: =SUM(E4:E15) -> 586 | F16: =E16/$E$16 -> 1 | H16: =SUM(H4:H15) -> 20220 | I16: =H16/$H$16 -> 1

Sheet G24
A1: Gráfico nº 24. Evolución temporal llamadas recibidas
A26: Año | B26: Llamadas recibidas
A27: 2009 | B27: 211853
A28: 2010 | B28: 207792
A29: 2011 | B29: 196404
A30: 2012 | B30: 219248
A31: 2013 | B31: 236699
A32: 2014 | B32: 211105
A33: 2015 | B33: 186996
A34: 2016 | B34: 154893
A35: 2017 | B35: 156929
A36: 2018 | B36: 165661

Sheet G25
A1: Gráfico nº 25. Evolución temporal llamadas telefónicas atendidas diarias
A30: Año | B30: Llamadas atendidas diarias
A31: 2009 | B31: 835
A32: 2010 | B32: 831
A33: 2011 | B33: 790
A34: 2012 | B34: 874
A35: 2013 | B35: 936
A36: 2014 | B36: 845
A37: 2015 | B37: 729
A38: 2016 | B38: 728
A39: 2017 | B39: 721
A40: 2018 | B40: 670

Sheet C26
A1: Cuadro nº 26. Llamadas derivadas desde centralita por unidad
A3: Unidad | B3: Número Derivaciones | C3: Media día | D3: % atendidas
A4: IRPF y Patrimonio | B4: 13018 | C4: 52 | D4: 0.77
A5: IVA | B5: 12231 | C5: 49 | D5: 0.78
A6: Sucesiones y TP (e-mail) | B6: 1231 | C6: 5 | D6: 1
A7: Imptos. Especiales (e-mail) | B7: 1756 | C7: 7 | D7: 1
A8: Impto. Sociedades (*) | B8: 559 | C8: 29 | D8: 0.8
A9: Impto. Sociedades (e-mail) | B9: 1632 | C9: 7 | D9: 1
A10: Grandes empresas (e-mail) | B10: 2134 | C10: 9 | D10: 1
A11: Campaña de Renta y Patrimonio (**) | B11: 7311 | C11: 29 | D11: 0.83
A12: Asistencia al contribuyente (e-mail) | B12: 2492 | C12: 10 | D12: 1
A13: Citas previas Renta (fuera de Campaña) | B13: 1109 | C13: 4 | D13: 0.78
A14: Otras | B14: 413 | C14: 2 | D14: 1
A15: Total | B15: =SUM(B4:B14) -> 43886
A17: (**) Plazo de sociedades (del 11 de julio al 26 de julio) Dentro de este período no funciona el sistema de correo electrónico sino que se transfieren directamente las llamadas.
A18: (**) Campaña IRPF y Patrimonio (abril, mayo y junio )

Sheet G27
A1: Gráfico nº 27. Gráfico de la distribución de la atención presencial y telefónica por meses
A32: Mes | B32: Atención Presencial | C32: Atención Telefónica
A33: Enero | B33: 16814 | C33: 15261
A34: Febrero | B34: 12813 | C34: 10497
A35: Marzo | B35: 12939 | C35: 9815
A36: Abril | B36: 19603 | C36: 22245
A37: Mayo | B37: 14811 | C37: 23152
A38: Junio | B38: 15000 | C38: 19703
A39: Julio | B39: 12093 | C39: 13435
A40: Agosto | B40: 9298 | C40: 9890
A41: Septiembre | B41: 9969 | C41: 9492
A42: Octubre | B42: 14735 | C42: 11507
A43: Noviembre | B43: 11129 | C43: 11056
A44: Diciembre | B44: 9613 | C44: 9608

Sheet G28
A1: Gráfico nº 28. Gráfico evolución atención por correo electrónico
A28: Año | B28: Correos recibidos
A29: 2009 | B29: 6737
A30: 2010 | B30: 6545
A31: 2011 | B31: 9210
A32: 2012 | B32: 10572
A33: 2013 | B33: 13995
A34: 2014 | B34: 13941
A35: 2015 | B35: 15192
A36: 2016 | B36: 15653
A37: 2017 | B37: 16637
A38: 2018 | B38: 21114

Sheet G29
A1: Gráfico nº 29. Gráfico evolución atención buzón colaboradores
A28: Año | B28: Nº atenciones
A29: 2009 | B29: 2411
A30: 2010 | B30: 2595
A31: 2011 | B31: 3272
A32: 2012 | B32: 4109
A33: 2013 | B33: 5322
A34: 2014 | B34: 5110
A35: 2015 | B35: 4552
A36: 2016 | B36: 3836
A37: 2017 | B37: 3998
A38: 2018 | B38: 4588

Sheet G30
A1: Gráfico nº 30. Documentos registrados según unidad de destino
A35: Unidad | B35: Número | C35: % s/Total
A36: Servicio de Recaudación | B36: 4968 | C36: =B36/$B$44 -> 0.20676739
A37: Servicio de Gestión de Renta y Patrimonio | B37: 7551 | C37: =B37/$B$44 -> 0.31427144
A38: Servicio de Gestión Tributaria | B38: 2603 | C38: =B38/$B$44 -> 0.10833645
A39: Servicio de Asistencia e Información al Contribuyente | B39: 2280 | C39: =B39/$B$44 -> 0.094893245
A40: Servicio de Riqueza Territorial y Tributos Patrimoniales | B40: 2 | C40: =B40/$B$44 -> 8.3239689e-05
A41: Otras Unidades Hacienda Tributaria de Navarra | B41: 377 | C41: =B41/$B$44 -> 0.015690681
A42: Otras Unidades Dpto. Hacienda y Política Financiera | B42: 1328 | C42: =B42/$B$44 -> 0.055271153
A43: Otros Departamentos | B43: 4918 | C43: =B43/$B$44 -> 0.20468639
A44: Total | B44: =SUM(B36:B43) -> 24027 | C44: =SUM(C36:C43) -> 1

Sheet G31
A1: Gráfico nº 31. Evolución temporal documentos registrados
A27: Año | B27: Documentos recibidos | C27: Documentos para otros Departamentos
A28: 2009 | B28: 59133 | C28: 17397
A29: 2010 | B29: 56345 | C29: 17374
A30: 2011 | B30: 43200 | C30: 10183
A31: 2012 | B31: 39992 | C31: 7664
A32: 2013 | B32: 37727 | C32: 6255
A33: 2014 | B33: 40584 | C33: 7428
A34: 2015 | B34: 30677 | C34: 6538
A35: 2016 | B35: 32020 | C35: 7062
A36: 2017 | B36: 26093 | C36: 5572
A37: 2018 | B37: 24027 | C37: 4918

Sheet C32
A1: Cuadro nº 32. Directorios portal web más visitados. Número de accesos
A3: Directorios más visitados | B3: Nº accesos
A4: Página principal Hacienda | B4: 1478746
A5: Página campaña Renta (Gracias a ti) | B5: 536567
A6: Servicios telemáticos | B6: 193179
A7: Generador de impresos | B7: 112521
A8: Información fiscal | B8: 87526
A9: Calendario del contribuyente | B9: 75676
A10: Normativa tributaria | B10: 70673
A11: Manuales de ayuda (Empresarios y profesionales) | B11: 54827
A12: Normativa IRPF | B12: 48478
A13: Suministro Inmediato Información (SII) | B13: 47355
A14: Manuales de ayuda (Ciudadanos) | B14: 42628

Sheet C33
A1: Cuadro nº 33. Tipos de certificados expedidos
A3: Modelo | B3: Número
A4: Estar al corriente en las obligaciones tributarias | B4: 136008
A5: No estar al corriente en las obligaciones tributarias (*) | B5: 58145
A6: Estar al corriente en obligaciones tributarias (contratistas) | B6: 34945
A7: Impuesto sobre Actividades Económicas (IAE) - histórico- | B7: 13423
A8: Impuesto sobre Actividades Económicas (IAE) | B8: 13160
A9: Deducción en vivienda habitual | B9: 7542
A10: Régimen de tributación en el IVA | B10: 4879
A11: Condición de sujeto pasivo de IVA | B11: 4383
A12: Retenciones a cuenta (modelo 190) | B12: 4602
A13: Bases imponibles y liquidables IRPF | B13: 4439
A14: Residencia fiscal en España | B14: 2174
A15: Saldos pendientes de devolución | B15: 1335
A16: Deudas por NIF | B16: 1753
A17: TOTAL | B17: =B4+SUM(B6:B16) -> 228643
A19: (*) Indica el número de certificados de “estar al corriente” que ha sido denegado porque el solicitante incumplía las condiciones

Sheet G34
A1: Gráfico nº 34. Evolución de la presentación telemática de declaraciones
A29: Año | B29: IVA | C29: Fraccionamientos | D29: Recapitulativa operaciones intracomunitarias | E29: Informativas | F29: Sociedades
A30: 2009 | B30: 139298 | C30: 48019 | D30: 11313 | E30: 74083 | F30: 17454
A31: 2010 | B31: 155555 | C31: 49976 | D31: 16241 | E31: 93924 | F31: 17852
A32: 2011 | B32: 158799 | C32: 52600 | D32: 20904 | E32: 99132 | F32: 18416
A33: 2012 | B33: 160883 | C33: 54438 | D33: 21534 | E33: 99711 | F33: 18042
A34: 2013 | B34: 166124 | C34: 58345 | D34: 23760 | E34: 100895 | F34: 19090
A35: 2014 | B35: 165166 | C35: 63305 | D35: 23561 | E35: 101111 | F35: 18005
A36: 2015 | B36: 169888 | C36: 67411 | D36: 25186 | E36: 104491 | F36: 18631
A37: 2016 | B37: 175821 | C37: 70118 | D37: 25707 | E37: 109620 | F37: 18652
A38: 2017 | B38: 179378 | C38: 71775 | D38: 27402 | E38: 117016 | F38: 18540
A39: 2018 | B39: 183376 | C39: 73500 | D39: 28599 | E39: 121020 | F39: 19260

Sheet C35
A1: Cuadro nº 35. Porcentaje de declaraciones telemáticas según modelos e incremento sobre año anterior
A3: Modelo | B3: Concepto | C3: Porcentaje telemáticas | D3: % variación anual
A4: O4 | B4: Comunicación libros obligatorios | C4: 93.96 | D4: 0.91
A5: F50 | B5: Operaciones con terceros | C5: 87 | D5: -2.05
A6: 309 | B6: IVA no habitual | C6: 77.73 | D6: -9.02
A7: F69 | B7: IVA periódico | C7: 83.18 | D7: -1.27
A8: F65 | B8: Opciones y renuncias | C8: 90 | D8: 11.07
A9: 130/717 | B9: Fraccionamientos IRPF | C9: 86.49 | D9: 12.42
A10: 180 | B10: Declaración anual retenciones arrendamientos | C10: 89.19 | D10: 16.86
A11: 193 | B11: Declaración anual retenciones capital | C11: 99.61 | D11: 53.62
A12: 182 | B12: Declaración anual donaciones | C12: 89.36 | D12: 53.18

Sheet G36
A1: Gráfico nº 36. Accesos terminal autoservicio. Por conceptos
A25: Concepto | B25: 2018 | C25: % sobre Total
A26: Emisión de certificados | B26: 1361 | C26: =B26/$B$34 -> 0.33292564
A27: Obtención copias declaraciones IRPF | B27: 959 | C27: =B27/$B$34 -> 0.23458904
A28: Solicitud cita previa Campaña Renta | B28: 453 | C28: =B28/$B$34 -> 0.11081213
A29: Impresión copias otras declaraciones | B29: 406 | C29: =B29/$B$34 -> 0.099315068
A30: Obtención de datos fiscales | B30: 319 | C30: =B30/$B$34 -> 0.078033268
A31: Solicitud envío PIN a domicilio | B31: 250 | C31: =B31/$B$34 -> 0.061154599
A32: Obtención de cédulas parcelarias | B32: 143 | C32: =B32/$B$34 -> 0.034980431
A33: Otros | B33: 197 | C33: =B33/$B$34 -> 0.048189824
A34: TOTAL | B34: =SUM(B26:B33) -> 4088 | C34: =B34/$B$34 -> 1

Sheet C37
